BEGIN:VCALENDAR
VERSION:2.0
PRODID:-//ChamberMaster//Event Calendar 2.0//EN
METHOD:PUBLISH
X-PUBLISHED-TTL:P3D
REFRESH-INTERVAL:P3D
CALSCALE:GREGORIAN
BEGIN:VEVENT
DTSTART:20090722T050000Z
DTEND:20090722T050000Z
X-MICROSOFT-CDO-ALLDAYEVENT:FALSE
SUMMARY:Community Organization Brainstorming!
DESCRIPTION:A chance for community non-profit organizations to see how to use the Chamber's Community Calendar and develop new ways to use the power for the Chamber.
X-ALT-DESC;FMTTYPE=text/html:A chance for community non-profit organizations to see how to use the Chamber's Community Calendar and develop new ways to use the power for the Chamber.
LOCATION:Nyborg & Company\, Ltd.
UID:e.1902.975
SEQUENCE:3
DTSTAMP:20260421T070626Z
URL:https://business.bataviachamber.org/events/details/community-organization-brainstorming-07-22-2009-975
END:VEVENT

END:VCALENDAR
