BEGIN:VCALENDAR
VERSION:2.0
PRODID:-//ChamberMaster//Event Calendar 2.0//EN
METHOD:PUBLISH
X-PUBLISHED-TTL:P3D
REFRESH-INTERVAL:P3D
CALSCALE:GREGORIAN
BEGIN:VEVENT
DTSTART:20100730T050000Z
DTEND:20100802T050000Z
X-MICROSOFT-CDO-ALLDAYEVENT:FALSE
SUMMARY:Community Days Weekend at DuPage Airport
DESCRIPTION:Please join us for our annual Community Days Weekend\, the schedule includes:\n\n"Wings of Freedom Tour": B-17 and B-24 WWII Bombers and P-51 Mustang\n* Friday\, July 30th to Monday\, August 2nd\n* $12 for Adults\, $6 for Children 12 years and younger\n* Tours are Friday: 2pm - 5pm\; Saturday and Sunday: 9am - 5pm\; and Monday: 9am - Noon\n* Flights are every morning and evening\n\nLima Lima Flight Team and Ronald McDonald House Charities ® of Chicagoland and Northwest Indiana Are Hosting a "Flying High BBQ" Presented by McDonald?s Aviation Services and DuPage Flight Center\n*Saturday\, July31st starting at 2:30pm\n*Entrance fee is $10 for Adults\, $5 for Children 4-12 and Children 4 and under are FREE (Fee includes Family BBQ prepared by Kitty Hawk Cafe)\n*Bring the kids and enjoy an afternoon jam-packed with great food\, aircraft and more! Meet the Lima Lima pilots as they answer questions about the T-34 planes and formation flying! Take a ride in the Flight Simulator! Meet Ronald McDonald! Come bounce in the Children?s Moonwalk and enjoy our Kids Game Corner!\n\nStatic Display ofaircraft\, vintage military vehicles from First Division Museum at Cantigny\, flight schools\, DuPageAirport Authority snow removal equipment and tenants including: Civil Air Patrol\, DuPage Pilots Association\, IFR Charter Management\, Travel Express Aviation\, Vagabond Flying Association and West Chicago Fire Protection District!\n*Saturday\, July 31st: 9am - 2:30pm (Starting at 2:30pm the static display will turn into the Flying High BBQ Event) and Sunday\, August 1st: 9am - 5pm\n*Free Admission!\n\nDuPage Flight Center?s own Kitty Hawk Cafe will be open all weekend serving burgers\, hot dogs\, BBQchicken sandwiches\, ice cream\, chips and more!
X-ALT-DESC;FMTTYPE=text/html:Please join us for our annual Community Days Weekend\, the schedule includes:\n\n"Wings of Freedom Tour": B-17 and B-24 WWII Bombers and P-51 Mustang\n* Friday\, July 30th to Monday\, August 2nd\n* $12 for Adults\, $6 for Children 12 years and younger\n* Tours are Friday: 2pm - 5pm\; Saturday and Sunday: 9am - 5pm\; and Monday: 9am - Noon\n* Flights are every morning and evening\n\nLima Lima Flight Team and Ronald McDonald House Charities ® of Chicagoland and Northwest Indiana Are Hosting a "Flying High BBQ" Presented by McDonald?s Aviation Services and DuPage Flight Center\n*Saturday\, July31st starting at 2:30pm\n*Entrance fee is $10 for Adults\, $5 for Children 4-12 and Children 4 and under are FREE (Fee includes Family BBQ prepared by Kitty Hawk Cafe)\n*Bring the kids and enjoy an afternoon jam-packed with great food\, aircraft and more! Meet the Lima Lima pilots as they answer questions about the T-34 planes and formation flying! Take a ride in the Flight Simulator! Meet Ronald McDonald! Come bounce in the Children?s Moonwalk and enjoy our Kids Game Corner!\n\nStatic Display ofaircraft\, vintage military vehicles from First Division Museum at Cantigny\, flight schools\, DuPageAirport Authority snow removal equipment and tenants including: Civil Air Patrol\, DuPage Pilots Association\, IFR Charter Management\, Travel Express Aviation\, Vagabond Flying Association and West Chicago Fire Protection District!\n*Saturday\, July 31st: 9am - 2:30pm (Starting at 2:30pm the static display will turn into the Flying High BBQ Event) and Sunday\, August 1st: 9am - 5pm\n*Free Admission!\n\nDuPage Flight Center?s own Kitty Hawk Cafe will be open all weekend serving burgers\, hot dogs\, BBQchicken sandwiches\, ice cream\, chips and more!
LOCATION:DuPage Airport Flight Center
UID:e.1902.16
SEQUENCE:3
DTSTAMP:20260420T093406Z
URL:https://business.bataviachamber.org/events/details/community-days-weekend-at-dupage-airport-07-30-2010-16
END:VEVENT

END:VCALENDAR
