BEGIN:VCALENDAR
VERSION:2.0
PRODID:-//ChamberMaster//Event Calendar 2.0//EN
METHOD:PUBLISH
X-PUBLISHED-TTL:P3D
REFRESH-INTERVAL:P3D
CALSCALE:GREGORIAN
BEGIN:VEVENT
DTSTART:20080825T190000Z
DTEND:20080825T210000Z
X-MICROSOFT-CDO-ALLDAYEVENT:FALSE
SUMMARY:Commerce in Batavia - 175 Years of Progress
DESCRIPTION:Much has been written about the industries that helped to establish the city of Batavia - windmill companies\, rock quarries\, and wagon making - to name a few. But what about the role of the retail businesses\, service industries\, and later manufacturers that supported and nourished life in Batavia as its population grew? Do you remember the neighborhood grocery stores? Downtown before there was a McDonald's? Did your parents or grandparents work for a company no longer here? Join us for a discussion about the Batavia businesses of your youth. Co-sponsored by the Batavia Chamber of Commerce\, Batavia Depot Museum\, and Batavia Historical Society.
X-ALT-DESC;FMTTYPE=text/html:Much has been written about the industries that helped to establish the city of Batavia - windmill companies\, rock quarries\, and wagon making - to name a few. But what about the role of the retail businesses\, service industries\, and later manufacturers that supported and nourished life in Batavia as its population grew? Do you remember the neighborhood grocery stores? Downtown before there was a McDonald's? Did your parents or grandparents work for a company no longer here? Join us for a discussion about the Batavia businesses of your youth. Co-sponsored by the Batavia Chamber of Commerce\, Batavia Depot Museum\, and Batavia Historical Society. 
LOCATION:Batavia Public Library
UID:e.1902.1571
SEQUENCE:3
DTSTAMP:20260422T023617Z
URL:https://business.bataviachamber.org/events/details/commerce-in-batavia-175-years-of-progress-08-25-2008-1571
END:VEVENT

END:VCALENDAR
