BEGIN:VCALENDAR
VERSION:2.0
PRODID:-//ChamberMaster//Event Calendar 2.0//EN
METHOD:PUBLISH
X-PUBLISHED-TTL:P3D
REFRESH-INTERVAL:P3D
CALSCALE:GREGORIAN
BEGIN:VEVENT
DTSTART:20100312T060000Z
DTEND:20100312T060000Z
X-MICROSOFT-CDO-ALLDAYEVENT:FALSE
SUMMARY:Comedy Trivia Show
DESCRIPTION:Enjoy appetizers & have fun testing your knowledge about various topics while competing to win fun &exciting prizes. Stand-Up Comic will also be present.\n$30 / Person\nReservations Are Required!\nNo Walk-Ins Will Be Accepted\nPlease Call Myles Above Productions to RSVP at 630.728.3813
X-ALT-DESC;FMTTYPE=text/html:Enjoy appetizers & have fun testing your knowledge about various topics while competing to win fun &exciting prizes. Stand-Up Comic will also be present.\n$30 / Person\nReservations Are Required!\nNo Walk-Ins Will Be Accepted\nPlease Call Myles Above Productions to RSVP at 630.728.3813\n\n
LOCATION:Eagle Brook Country Club
UID:e.1902.1124
SEQUENCE:3
DTSTAMP:20260420T161849Z
URL:https://business.bataviachamber.org/events/details/comedy-trivia-show-03-12-2010-1124
END:VEVENT

END:VCALENDAR
