BEGIN:VCALENDAR
VERSION:2.0
PRODID:-//ChamberMaster//Event Calendar 2.0//EN
METHOD:PUBLISH
X-PUBLISHED-TTL:P3D
REFRESH-INTERVAL:P3D
CALSCALE:GREGORIAN
BEGIN:VEVENT
DTSTART:20101008T050000Z
DTEND:20101011T050000Z
X-MICROSOFT-CDO-ALLDAYEVENT:FALSE
SUMMARY:Columbus Day Sale
DESCRIPTION:Don't miss the annual Columbus Day Sale. Enjoy extra savings on top of our every day savings of 25%- 65%.
X-ALT-DESC;FMTTYPE=text/html:Don't miss the annual Columbus Day Sale. Enjoy extra savings on top of our every day savings of 25%- 65%.
LOCATION:Chicago Premium Outlets
UID:e.1902.66
SEQUENCE:3
DTSTAMP:20260420T042541Z
URL:https://business.bataviachamber.org/events/details/columbus-day-sale-10-08-2010-66
END:VEVENT

END:VCALENDAR
