BEGIN:VCALENDAR
VERSION:2.0
PRODID:-//ChamberMaster//Event Calendar 2.0//EN
METHOD:PUBLISH
X-PUBLISHED-TTL:P3D
REFRESH-INTERVAL:P3D
CALSCALE:GREGORIAN
BEGIN:VEVENT
DTSTART:20090505T050000Z
DTEND:20090505T050000Z
X-MICROSOFT-CDO-ALLDAYEVENT:FALSE
SUMMARY:Colonial Cares
DESCRIPTION:Dine relax and enjoy friends and family during the dinner hours.  A percentage of your bill goes toS.P.S.
X-ALT-DESC;FMTTYPE=text/html:Dine relax and enjoy friends and family during the dinner hours.  A percentage of your bill goes toS.P.S.\n
LOCATION:Colonial Restaurant
UID:e.1902.940
SEQUENCE:3
DTSTAMP:20260421T105042Z
URL:https://business.bataviachamber.org/events/details/colonial-cares-05-05-2009-940
END:VEVENT

END:VCALENDAR
