BEGIN:VCALENDAR
VERSION:2.0
PRODID:-//ChamberMaster//Event Calendar 2.0//EN
METHOD:PUBLISH
X-PUBLISHED-TTL:P3D
REFRESH-INTERVAL:P3D
CALSCALE:GREGORIAN
BEGIN:VEVENT
DTSTART:20100615T050000Z
DTEND:20100615T050000Z
X-MICROSOFT-CDO-ALLDAYEVENT:FALSE
SUMMARY:Coffee Club Meeting
DESCRIPTION:You're invited to join us at our next coffee club meeting.  Discussing current updates on the marketand the economy in a relaxed\, informal setting is a great way to get to know one another.  Plus\, the coffee's on us.  Please join us at the next meeting of our coffee club and bring a friend.  Refreshments and light snacks will be served.
X-ALT-DESC;FMTTYPE=text/html:You're invited to join us at our next coffee club meeting.  Discussing current updates on the marketand the economy in a relaxed\, informal setting is a great way to get to know one another.  Plus\, the coffee's on us.  Please join us at the next meeting of our coffee club and bring a friend.  Refreshments and light snacks will be served.
LOCATION:Colonial Cafe
UID:e.1902.4
SEQUENCE:3
DTSTAMP:20260420T112454Z
URL:https://business.bataviachamber.org/events/details/coffee-club-meeting-06-15-2010-4
END:VEVENT

END:VCALENDAR
