BEGIN:VCALENDAR
VERSION:2.0
PRODID:-//ChamberMaster//Event Calendar 2.0//EN
METHOD:PUBLISH
X-PUBLISHED-TTL:P3D
REFRESH-INTERVAL:P3D
CALSCALE:GREGORIAN
BEGIN:VEVENT
DTSTART:20100708T220000Z
DTEND:20100709T000000Z
X-MICROSOFT-CDO-ALLDAYEVENT:FALSE
SUMMARY:CMIT Solutions Open House & Ribbon Cutting
DESCRIPTION:Join Debra Reiter for the official opening of her new business\, CMIT Solutions of the Tri-Cities\, and welcome her and her staff to the Batavia Chamber of Commerce!  As an added treat\, Debra is holding her grand opening at the beautiful Indigo Photographic studio. So while you welcome CMIT Solutions\, come see the international award winning photography of Michael Barton. Join us at 6:00 p.m. as Mayor Jeff Schielke officially welcomes CMIT to Batavia with a ribbon cutting!
X-ALT-DESC;FMTTYPE=text/html:<P class=MsoNormal style="MARGIN: 0in 0in 0pt\; TEXT-ALIGN: center" align=left>Join Debra Reiter for the official opening of her new business\, CMIT Solutions of the Tri-Cities\, and&nbsp\;welcome her and her staff to the Batavia Chamber of Commerce! </P><P class=MsoNormal style="MARGIN: 0in 0in 0pt\; TEXT-ALIGN: center" align=left>&nbsp\;</P><P class=MsoNormal style="MARGIN: 0in 0in 0pt\; TEXT-ALIGN: center" align=left>As an added treat\, Debra is holding her grand opening at the beautiful Indigo Photographic studio. So while you welcome CMIT Solutions\, come see the international award winning photography of Michael Barton.</P><P class=MsoNormal style="MARGIN: 0in 0in 0pt\; TEXT-ALIGN: center" align=left>&nbsp\;</P><P class=MsoNormal style="MARGIN: 0in 0in 0pt\; TEXT-ALIGN: center" align=left>Join us at 6:00 p.m. as Mayor Jeff Schielke&nbsp\;officially welcomes CMIT to Batavia with a ribbon cutting!</P>
LOCATION:Indigo Photographic Inc.
UID:e.1902.1739
SEQUENCE:3
DTSTAMP:20260420T105330Z
URL:https://business.bataviachamber.org/events/details/cmit-solutions-open-house-ribbon-cutting-07-08-2010-1739
END:VEVENT

END:VCALENDAR
