BEGIN:VCALENDAR
VERSION:2.0
PRODID:-//ChamberMaster//Event Calendar 2.0//EN
METHOD:PUBLISH
X-PUBLISHED-TTL:P3D
REFRESH-INTERVAL:P3D
CALSCALE:GREGORIAN
BEGIN:VEVENT
DTSTART:20110429T050000Z
DTEND:20110430T050000Z
X-MICROSOFT-CDO-ALLDAYEVENT:FALSE
SUMMARY:City-Wide Garage Sales
DESCRIPTION:100s of Garage sales all over the city. 8:00 a.m. to 4:00 p.m. each day.Visit www.bataviafireworks.org for more information
X-ALT-DESC;FMTTYPE=text/html:<P>100s of Garage sales all over the city. 8:00 a.m. to 4:00 p.m. each day.</P><P>Visit <A href="http://www.bataviafireworks.org">www.bataviafireworks.org</A>&nbsp\;for more information</P>
LOCATION:numerous locations
UID:e.1902.179
SEQUENCE:3
DTSTAMP:20260419T181041Z
URL:https://business.bataviachamber.org/events/details/city-wide-garage-sales-04-29-2011-179
END:VEVENT

END:VCALENDAR
