BEGIN:VCALENDAR
VERSION:2.0
PRODID:-//ChamberMaster//Event Calendar 2.0//EN
METHOD:PUBLISH
X-PUBLISHED-TTL:P3D
REFRESH-INTERVAL:P3D
CALSCALE:GREGORIAN
BEGIN:VEVENT
DTSTART:20090505T050000Z
DTEND:20090505T050000Z
X-MICROSOFT-CDO-ALLDAYEVENT:FALSE
SUMMARY:Cinco De Mayo ~ Wineritas!
DESCRIPTION:Stop in and enjoy Gibby's own celebration of Cinco de Mayo. Relax with a glass of our special recipewineritas for $5 at the Wine Bar - or order a glass of wine from our Bar menu. Sample some of our favorite salsas from Gibby's Pantry while taking uno momento for Cinco de Mayo.
X-ALT-DESC;FMTTYPE=text/html:Stop in and enjoy Gibby's own celebration of Cinco de Mayo. Relax with a glass of our special recipewineritas for $5 at the Wine Bar - or order a glass of wine from our Bar menu. Sample some of our favorite salsas from Gibby's Pantry while taking uno momento for Cinco de Mayo.
LOCATION:Gibby's Wine Den
UID:e.1902.942
SEQUENCE:3
DTSTAMP:20260421T103728Z
URL:https://business.bataviachamber.org/events/details/cinco-de-mayo-wineritas-05-05-2009-942
END:VEVENT

END:VCALENDAR
