BEGIN:VCALENDAR
VERSION:2.0
PRODID:-//ChamberMaster//Event Calendar 2.0//EN
METHOD:PUBLISH
X-PUBLISHED-TTL:P3D
REFRESH-INTERVAL:P3D
CALSCALE:GREGORIAN
BEGIN:VEVENT
DTSTART:20110716T050000Z
DTEND:20110716T050000Z
X-MICROSOFT-CDO-ALLDAYEVENT:FALSE
SUMMARY:Chris' Walk Against Substance Abuse
DESCRIPTION:A family-friendly 1-mile walk at the beautiful Riverwalk.  The walk was created in memory of Chris Foley who died of a heroin overdose in July of 2007 and it's purpose is to raise awareness of substance abuse in our communities while raising funds for Hearts of Hope and New Life Corrections / Wayside Cross for their work with addiction and the incarcerated.  Come out for the walk\, rally featuringKane County Sheriff Pat Perez\, displays\, raffles\, balloon launch\, chair massages\, silent auctions\, Hawaiian shaved ice and more.  Register 8:30 am\, walk 9:00 am\, rally 10:00 am.  No cost to participate\, however\, each walker will raise pledges.  Learn more & register at www.chriswalk.net
X-ALT-DESC;FMTTYPE=text/html:A family-friendly 1-mile walk at the beautiful Riverwalk.  The walk was created in memory of Chris Foley who died of a heroin overdose in July of 2007 and it's purpose is to raise awareness of substance abuse in our communities while raising funds for Hearts of Hope and New Life Corrections / Wayside Cross for their work with addiction and the incarcerated.  Come out for the walk\, rally featuringKane County Sheriff Pat Perez\, displays\, raffles\, balloon launch\, chair massages\, silent auctions\, Hawaiian shaved ice and more.  Register 8:30 am\, walk 9:00 am\, rally 10:00 am.  No cost to participate\, however\, each walker will raise pledges.  Learn more & register at www.chriswalk.net
LOCATION:Batavia Riverwalk
UID:e.1902.281
SEQUENCE:3
DTSTAMP:20260419T132437Z
URL:https://business.bataviachamber.org/events/details/chris-walk-against-substance-abuse-07-16-2011-281
END:VEVENT

END:VCALENDAR
