BEGIN:VCALENDAR
VERSION:2.0
PRODID:-//ChamberMaster//Event Calendar 2.0//EN
METHOD:PUBLISH
X-PUBLISHED-TTL:P3D
REFRESH-INTERVAL:P3D
CALSCALE:GREGORIAN
BEGIN:VEVENT
DTSTART:20090918T050000Z
DTEND:20090918T050000Z
X-MICROSOFT-CDO-ALLDAYEVENT:FALSE
SUMMARY:Choose Me....Not My Competition
DESCRIPTION:Identify what makes your business unique so you never have to compete on price.  Learn an effective'call to action' that motivates prospective customers to BUY NOW.  Create an effective guarantee that will remove the risk for first time buyers doing business with you.  Join us for a continental breakfast\, some networking and a valuable seminar/workshop for just $49.  Call Craig Lowder at 630-761-1566 to reserve your seat.
X-ALT-DESC;FMTTYPE=text/html:Identify what makes your business unique so you never have to compete on price.  Learn an effective'call to action' that motivates prospective customers to BUY NOW.  Create an effective guarantee that will remove the risk for first time buyers doing business with you.  Join us for a continental breakfast\, some networking and a valuable seminar/workshop for just $49.  Call Craig Lowder at 630-761-1566 to reserve your seat.
LOCATION:St. Charles Country Club
UID:e.1902.1001
SEQUENCE:3
DTSTAMP:20260421T031452Z
URL:https://business.bataviachamber.org/events/details/choose-me-not-my-competition-09-18-2009-1001
END:VEVENT

END:VCALENDAR
