BEGIN:VCALENDAR
VERSION:2.0
PRODID:-//ChamberMaster//Event Calendar 2.0//EN
METHOD:PUBLISH
X-PUBLISHED-TTL:P3D
REFRESH-INTERVAL:P3D
CALSCALE:GREGORIAN
BEGIN:VEVENT
DTSTART:20221201T000000Z
DTEND:20221201T013000Z
X-MICROSOFT-CDO-ALLDAYEVENT:FALSE
SUMMARY:Chili & Chocolate
DESCRIPTION:Join us for a sweet and spicy evening of Chili & Chocolate and Christmas decorating at our Nov 30 Worship at the Table! Have a great chili recipe you love to make for the family or a yummy chocolate dessert? Sign up to bring a dish to share!\n\nhttps://rejoicegeneva.churchcenter.com/registrations/events/1509949
X-ALT-DESC;FMTTYPE=text/html:<span style="background-color:rgb(255\, 255\, 255)\; color:rgb(61\, 61\, 61)\; font-family:system-ui\,-apple-system\,system-ui\,segoe ui\,roboto\,helvetica\,arial\,sans-serif\,apple color emoji\,segoe ui emoji\,segoe ui symbol\; font-size:16px">Join us for a sweet and spicy evening of Chili &amp\; Chocolate and Christmas decorating at our Nov 30 Worship at the Table! Have a great chili recipe you love to make for the family or a yummy chocolate dessert? Sign up to bring a dish to share!<br />\n<a href="https://rejoicegeneva.churchcenter.com/registrations/events/1509949">https://rejoicegeneva.churchcenter.com/registrations/events/1509949</a></span><br />\n&nbsp\;
LOCATION:Rejoice Lutheran Church 0N377 N Mill Creek Dr Geneva\, IL 60134
UID:e.1902.16728
SEQUENCE:3
DTSTAMP:20260420T143802Z
URL:https://business.bataviachamber.org/events/details/chili-chocolate-11-30-2022-16728
END:VEVENT

END:VCALENDAR
