BEGIN:VCALENDAR
VERSION:2.0
PRODID:-//ChamberMaster//Event Calendar 2.0//EN
METHOD:PUBLISH
X-PUBLISHED-TTL:P3D
REFRESH-INTERVAL:P3D
CALSCALE:GREGORIAN
BEGIN:VEVENT
DTSTART:20200211T230000Z
DTEND:20200212T010000Z
X-MICROSOFT-CDO-ALLDAYEVENT:FALSE
SUMMARY:Chick-fil-A Batavia Valentine's Day Craft Night
DESCRIPTION:Join us for a fun night of Valentine's day themed crafts! Free for all kids!
X-ALT-DESC;FMTTYPE=text/html:Join us for a fun night of Valentine&#39\;s day themed crafts! Free for all kids!
LOCATION:185 N. Randall Rd.\, Batavia\, IL 60510
UID:e.1902.12061
SEQUENCE:3
DTSTAMP:20260422T233054Z
URL:https://business.bataviachamber.org/events/details/chick-fil-a-batavia-valentine-s-day-craft-night-12061
END:VEVENT

END:VCALENDAR
