BEGIN:VCALENDAR
VERSION:2.0
PRODID:-//ChamberMaster//Event Calendar 2.0//EN
METHOD:PUBLISH
X-PUBLISHED-TTL:P3D
REFRESH-INTERVAL:P3D
CALSCALE:GREGORIAN
BEGIN:VEVENT
DTSTART:20200218T230000Z
DTEND:20200219T010000Z
X-MICROSOFT-CDO-ALLDAYEVENT:FALSE
SUMMARY:Chick-fil-A Batavia Dinner with the Cow
DESCRIPTION:Join us for a visit from our favorite cow! Coloring sheets and photos will be available for all!
X-ALT-DESC;FMTTYPE=text/html:Join us for a visit from our favorite cow! Coloring sheets and photos will be available for all!
LOCATION:185 N. Randall Rd.\, Batavia\, IL 60510
UID:e.1902.12062
SEQUENCE:3
DTSTAMP:20260422T232852Z
URL:https://business.bataviachamber.org/events/details/chick-fil-a-batavia-dinner-with-the-cow-12062
END:VEVENT

END:VCALENDAR
