BEGIN:VCALENDAR
VERSION:2.0
PRODID:-//ChamberMaster//Event Calendar 2.0//EN
METHOD:PUBLISH
X-PUBLISHED-TTL:P3D
REFRESH-INTERVAL:P3D
CALSCALE:GREGORIAN
BEGIN:VEVENT
DTSTART:20101111T060000Z
DTEND:20101111T060000Z
X-MICROSOFT-CDO-ALLDAYEVENT:FALSE
SUMMARY:CHI Fall Appreciation Party/Open House
DESCRIPTION:Your invited to our Fall Appreciation Party/Open House that will benefit Northern Illinois Food Bank. It's the perfect time of year for giving thanks and showing gratitude. And no one is more thankfulfor the support of our great clients and good friends than the team at Cooper Hong Inc. \n\nAs a sign of our thanks and appreciation\, we invite you to join us at our office on Thursday\, Nov.11th\, for food\, drink\, prize drawings and conversation - and to help out with a very good cause.\n\nThroughout the evening\, CHI will be collecting monetary donations and items on Northern Illinois Food Bank's "Grocery List" to help them in their fight against hunger.\n\nIf you choose to donate grocery items\, please go to the Northern Illinois Food Bank's website to view a list of their "grocerylist" - www.northernilfoodbank.org\n\nPlease RSVP by Monday Nov. 8th to Judi Montgomery at Cooper Hong Inc. \nPhone: 630/377-2555\njmontgomery@cooperhong.com
X-ALT-DESC;FMTTYPE=text/html:Your invited to our Fall Appreciation Party/Open House that will benefit Northern Illinois Food Bank. It's the perfect time of year for giving thanks and showing gratitude. And no one is more thankfulfor the support of our great clients and good friends than the team at Cooper Hong Inc. \n\nAs a sign of our thanks and appreciation\, we invite you to join us at our office on Thursday\, Nov.11th\, for food\, drink\, prize drawings and conversation - and to help out with a very good cause.\n\nThroughout the evening\, CHI will be collecting monetary donations and items on Northern Illinois Food Bank's "Grocery List" to help them in their fight against hunger.\n\nIf you choose to donate grocery items\, please go to the Northern Illinois Food Bank's website to view a list of their "grocerylist" - www.northernilfoodbank.org\n\nPlease RSVP by Monday Nov. 8th to Judi Montgomery at Cooper Hong Inc. \nPhone: 630/377-2555\njmontgomery@cooperhong.com\n
LOCATION:Cooper Hong Inc.
UID:e.1902.80
SEQUENCE:3
DTSTAMP:20260420T023608Z
URL:https://business.bataviachamber.org/events/details/chi-fall-appreciation-party-open-house-11-11-2010-80
END:VEVENT

END:VCALENDAR
