BEGIN:VCALENDAR
VERSION:2.0
PRODID:-//ChamberMaster//Event Calendar 2.0//EN
METHOD:PUBLISH
X-PUBLISHED-TTL:P3D
REFRESH-INTERVAL:P3D
CALSCALE:GREGORIAN
BEGIN:VEVENT
DTSTART:20210106T140000Z
DTEND:20210106T150000Z
X-MICROSOFT-CDO-ALLDAYEVENT:FALSE
SUMMARY:Chamber Not-for-Profit Forum
DESCRIPTION:Please join us for our monthly Not-for-Profit Forum at 8:00 am at the Batavia Chamber office. We will be discussing current and future conditions for non-profit organizations. Typically\, the most interesting discussions develop around an issue one of you is facing at your organization. So\, please bring your current issues to the table so that we can help you work through them.\n\nAs always\, the Batavia Chamber will have the coffee ready.
X-ALT-DESC;FMTTYPE=text/html:<div style="FONT-FAMILY: Arial"><span style="font-family:arial\,sans-serif\;"><span style="font-size:10.0pt\;">Please join us for&nbsp\;our monthly Not-for-Profit Forum at 8:00 am at the Batavia Chamber office. We will be discussing current and future conditions for non-profit organizations. Typically\, the most interesting discussions develop&nbsp\;around an issue one of you is facing at your organization. So\, please bring your current issues to the table so that we can help you work through them.<br />\nAs always\, the Batavia Chamber will have the coffee ready.</span></span></div>\n
LOCATION:Batavia Chamber of Commerce 106 W. Wilson Street Batavia\, IL 60510
UID:e.1902.6826
SEQUENCE:3
DTSTAMP:20260421T191814Z
URL:https://business.bataviachamber.org/events/details/chamber-not-for-profit-forum-6826
END:VEVENT

END:VCALENDAR
