BEGIN:VCALENDAR
VERSION:2.0
PRODID:-//ChamberMaster//Event Calendar 2.0//EN
METHOD:PUBLISH
X-PUBLISHED-TTL:P3D
REFRESH-INTERVAL:P3D
CALSCALE:GREGORIAN
BEGIN:VEVENT
DTSTART:20091021T000000Z
DTEND:20091021T020000Z
X-MICROSOFT-CDO-ALLDAYEVENT:FALSE
SUMMARY:Chamber NonProfit Forum
DESCRIPTION:We will be discussing the possibility of a "Dancing with the Batavia Stars" fundraiser fo all NonProifts.
X-ALT-DESC;FMTTYPE=text/html:<DIV style="FONT-FAMILY: Arial">We will be discussing the possibility of a "Dancing with the Batavia Stars" fundraiser fo all NonProifts.</DIV>
LOCATION:Fox Valley Volunteer Hospice
UID:e.1902.1692
SEQUENCE:3
DTSTAMP:20260421T025747Z
URL:https://business.bataviachamber.org/events/details/chamber-nonprofit-forum-10-20-2009-1692
END:VEVENT

END:VCALENDAR
