BEGIN:VCALENDAR
VERSION:2.0
PRODID:-//ChamberMaster//Event Calendar 2.0//EN
METHOD:PUBLISH
X-PUBLISHED-TTL:P3D
REFRESH-INTERVAL:P3D
CALSCALE:GREGORIAN
BEGIN:VEVENT
DTSTART:20050211T173000Z
DTEND:20050211T190000Z
X-MICROSOFT-CDO-ALLDAYEVENT:FALSE
SUMMARY:Chamber Lunch - 05/02/11
DESCRIPTION:
X-ALT-DESC;FMTTYPE=text/html:
LOCATION:Panera Bread
UID:e.1902.1495
SEQUENCE:3
DTSTAMP:20260420T075817Z
URL:https://business.bataviachamber.org/events/details/chamber-lunch-05-02-11-02-11-2005-1495
END:VEVENT

END:VCALENDAR
