BEGIN:VCALENDAR
VERSION:2.0
PRODID:-//ChamberMaster//Event Calendar 2.0//EN
METHOD:PUBLISH
X-PUBLISHED-TTL:P3D
REFRESH-INTERVAL:P3D
CALSCALE:GREGORIAN
BEGIN:VEVENT
DTSTART:20050114T173000Z
DTEND:20050114T190000Z
X-MICROSOFT-CDO-ALLDAYEVENT:FALSE
SUMMARY:Chamber Lunch - 05/01/14
DESCRIPTION:
X-ALT-DESC;FMTTYPE=text/html:
LOCATION:Apple Villa
UID:e.1902.1494
SEQUENCE:3
DTSTAMP:20260420T093246Z
URL:https://business.bataviachamber.org/events/details/chamber-lunch-05-01-14-01-14-2005-1494
END:VEVENT

END:VCALENDAR
