BEGIN:VCALENDAR
VERSION:2.0
PRODID:-//ChamberMaster//Event Calendar 2.0//EN
METHOD:PUBLISH
X-PUBLISHED-TTL:P3D
REFRESH-INTERVAL:P3D
CALSCALE:GREGORIAN
BEGIN:VEVENT
DTSTART:20041217T173000Z
DTEND:20041217T190000Z
X-MICROSOFT-CDO-ALLDAYEVENT:FALSE
SUMMARY:Chamber Lunch - 04/12/17
DESCRIPTION:
X-ALT-DESC;FMTTYPE=text/html:
LOCATION:Apple Villa
UID:e.1902.1493
SEQUENCE:3
DTSTAMP:20260420T111624Z
URL:https://business.bataviachamber.org/events/details/chamber-lunch-04-12-17-12-17-2004-1493
END:VEVENT

END:VCALENDAR
