BEGIN:VCALENDAR
VERSION:2.0
PRODID:-//ChamberMaster//Event Calendar 2.0//EN
METHOD:PUBLISH
X-PUBLISHED-TTL:P3D
REFRESH-INTERVAL:P3D
CALSCALE:GREGORIAN
BEGIN:VEVENT
DTSTART:20100810T003000Z
DTEND:20100810T013000Z
X-MICROSOFT-CDO-ALLDAYEVENT:FALSE
SUMMARY:Chamber Legislative Affairs Committee
DESCRIPTION:Join us as we continue our conversations about how the voice of business can pay an increasing role in Batavia\, Springfield and Washington\, DC. This month we will continue palnning for the annula Legialtive Breakfast on September 13 and begin planning for a "Legislative Expo" in January.
X-ALT-DESC;FMTTYPE=text/html:<DIV style="FONT-FAMILY: Arial" align=left><FONT color=#0000ff size=4>Join us as we continue our conversations about how the voice of business can pay an increasing role in Batavia\, Springfield and Washington\, DC.</FONT></DIV><DIV style="FONT-FAMILY: Arial" align=left><FONT color=#0000ff size=4></FONT>&nbsp\;</DIV><DIV style="FONT-FAMILY: Arial" align=left><FONT color=#0000ff size=4>This month we will continue palnning for the annula Legialtive Breakfast on September 13 and begin planning for a "Legislative Expo" in January.</FONT></DIV>
LOCATION:Panera Bread
UID:e.1902.1448
SEQUENCE:3
DTSTAMP:20260424T050703Z
URL:https://business.bataviachamber.org/events/details/chamber-legislative-affairs-committee-08-09-2010-1448
END:VEVENT

END:VCALENDAR
