BEGIN:VCALENDAR
VERSION:2.0
PRODID:-//ChamberMaster//Event Calendar 2.0//EN
METHOD:PUBLISH
X-PUBLISHED-TTL:P3D
REFRESH-INTERVAL:P3D
CALSCALE:GREGORIAN
BEGIN:VEVENT
DTSTART:20100309T013000Z
DTEND:20100309T023000Z
X-MICROSOFT-CDO-ALLDAYEVENT:FALSE
SUMMARY:Chamber Legislative Affairs Committee
DESCRIPTION:Join us for a very special meeting of the Chamber's Legislative Affairs Committee. Representative Tim Schmitz (49th District)\, Assistant Republican Leader in the Illinois House will join us to talk about the challenges that face the State of Illinois. He will be ready to answer your questions about how this will impact the business environment. Because we expect a larger crowd\, we will meet in the City Council Chambers at City Hall. We will bring bagels and coffee\, so please register even though there is no charge for this event.
X-ALT-DESC;FMTTYPE=text/html:<DIV style="FONT-FAMILY: Arial" align=left><FONT color=#0000ff size=4>Join us for a very special meeting of the Chamber's Legislative Affairs Committee. <FONT color=#800040>Representative Tim Schmitz </FONT>(49th District)\,&nbsp\;Assistant Republican Leader in the Illinois House will join us to talk about the challenges that face the State of Illinois. He will be ready to answer your questions about how this will impact the business environment.</FONT></DIV><DIV style="FONT-FAMILY: Arial" align=left><FONT color=#0000ff size=4></FONT>&nbsp\;</DIV><DIV style="FONT-FAMILY: Arial" align=left><FONT color=#0000ff size=4>Because we expect a larger crowd\, we will meet in the City Council Chambers at City Hall. We will bring bagels and coffee\, so please register even though there is no charge for this event.</FONT></DIV>
LOCATION:City of Batavia
UID:e.1902.1445
SEQUENCE:3
DTSTAMP:20260424T134812Z
URL:https://business.bataviachamber.org/events/details/chamber-legislative-affairs-committee-03-08-2010-1445
END:VEVENT

END:VCALENDAR
