BEGIN:VCALENDAR
VERSION:2.0
PRODID:-//ChamberMaster//Event Calendar 2.0//EN
METHOD:PUBLISH
X-PUBLISHED-TTL:P3D
REFRESH-INTERVAL:P3D
CALSCALE:GREGORIAN
BEGIN:VEVENT
DTSTART:20100209T013000Z
DTEND:20100209T023000Z
X-MICROSOFT-CDO-ALLDAYEVENT:FALSE
SUMMARY:Chamber Legislative Affairs Committee
DESCRIPTION:Monthly meeting of the Chamber's commitee that oversees local\, state and nagtional legislative issues.
X-ALT-DESC;FMTTYPE=text/html:<DIV style="FONT-FAMILY: Arial">Monthly meeting of the Chamber's commitee that oversees local\, state and nagtional legislative issues.</DIV>
LOCATION:Panera Bread
UID:e.1902.1444
SEQUENCE:3
DTSTAMP:20260424T143435Z
URL:https://business.bataviachamber.org/events/details/chamber-legislative-affairs-committee-02-08-2010-1444
END:VEVENT

END:VCALENDAR
