BEGIN:VCALENDAR
VERSION:2.0
PRODID:-//ChamberMaster//Event Calendar 2.0//EN
METHOD:PUBLISH
X-PUBLISHED-TTL:P3D
REFRESH-INTERVAL:P3D
CALSCALE:GREGORIAN
BEGIN:VEVENT
DTSTART:20090929T140000Z
DTEND:20090929T153000Z
X-MICROSOFT-CDO-ALLDAYEVENT:FALSE
SUMMARY:Chamber Economic Development Task Force
DESCRIPTION:A representative from the Aurora Economic Development Commission will come to discuss what they are doing in Aurora.
X-ALT-DESC;FMTTYPE=text/html:<DIV>A representative from the Aurora Economic Development Commission will come to discuss what they are doing in Aurora.</DIV>
LOCATION:Batavia Public Library District
UID:e.1902.1398
SEQUENCE:3
DTSTAMP:20260425T003004Z
URL:https://business.bataviachamber.org/events/details/chamber-economic-development-task-force-09-29-2009-1398
END:VEVENT

END:VCALENDAR
