BEGIN:VCALENDAR
VERSION:2.0
PRODID:-//ChamberMaster//Event Calendar 2.0//EN
METHOD:PUBLISH
X-PUBLISHED-TTL:P3D
REFRESH-INTERVAL:P3D
CALSCALE:GREGORIAN
BEGIN:VEVENT
DTSTART:20100126T140000Z
DTEND:20100126T153000Z
X-MICROSOFT-CDO-ALLDAYEVENT:FALSE
SUMMARY:Chamber Economic Development Task Force
DESCRIPTION:Join us as we continue our discussions of what the future role can be for this new Task Force.
X-ALT-DESC;FMTTYPE=text/html:<DIV>Join us as we continue our discussions of what the future role can be for this new Task Force.</DIV>
LOCATION:City of Batavia
UID:e.1902.1402
SEQUENCE:3
DTSTAMP:20260424T161518Z
URL:https://business.bataviachamber.org/events/details/chamber-economic-development-task-force-01-26-2010-1402
END:VEVENT

END:VCALENDAR
