BEGIN:VCALENDAR
VERSION:2.0
PRODID:-//ChamberMaster//Event Calendar 2.0//EN
METHOD:PUBLISH
X-PUBLISHED-TTL:P3D
REFRESH-INTERVAL:P3D
CALSCALE:GREGORIAN
BEGIN:VEVENT
DTSTART:20111221T133000Z
DTEND:20111221T153000Z
X-MICROSOFT-CDO-ALLDAYEVENT:FALSE
SUMMARY:Chamber Board Meeting - NOTE CHANGED DATE!
DESCRIPTION:Due to the Holidays the December Board meeting is moved to the 3rd Wednesday. Get Informed...Meet the Chamber Board of Directors The Chamber Board of Directors is comprised of top business leaders in the Fox Valley. Join us for the newly revised Board Meeting in our new location. Hear first-hand what is being planned for the Chamber of CommerceFind out what economic development activities are planned for BataviaGet updates from the Batavia Schools\, Park District\, MainStreet and moreThe Chamber Board meetings are perhaps the best place to keep informed on events and developments throughout the area. Should you wish to address the Board\, please contact the Executive Director in advance.
X-ALT-DESC;FMTTYPE=text/html:<DIV style="FONT-FAMILY: Arial" align=center><STRONG><FONT color=#800000>Due to the Holidays the December Board meeting is moved to the 3rd Wednesday.</FONT></STRONG></DIV><DIV style="FONT-FAMILY: Arial" align=center>&nbsp\;</DIV><DIV style="FONT-FAMILY: Arial" align=center><STRONG><FONT color=#800000>Get Informed...Meet the Chamber Board of Directors</FONT></STRONG></DIV><DIV style="FONT-FAMILY: Arial" align=left><FONT color=#0000ff><STRONG></STRONG></FONT>&nbsp\;</DIV><DIV style="FONT-FAMILY: Arial" align=left><FONT color=#0000ff><STRONG>The Chamber Board of Directors is comprised of top business leaders in the Fox Valley. Join us for the newly revised Board Meeting in our new location. </STRONG></FONT></DIV><UL><LI><DIV style="FONT-FAMILY: Arial" align=left><STRONG><FONT color=#0000ff>Hear first-hand what is being planned for the Chamber of Commerce</FONT></STRONG></DIV><LI><DIV style="FONT-FAMILY: Arial" align=left><STRONG><FONT color=#0000ff>Find out what economic development activities are planned for Batavia</FONT></STRONG></DIV><LI><DIV style="FONT-FAMILY: Arial" align=left><STRONG><FONT color=#0000ff>Get updates from the Batavia Schools\, Park District\, MainStreet and more</FONT></STRONG></DIV></LI></UL><DIV style="FONT-FAMILY: Arial" align=left><FONT color=#0000ff><STRONG>The Chamber Board meetings are perhaps the best place to keep informed on events and developments throughout the area. Should you wish to address the Board\, please contact the Executive Director in advance.</STRONG></FONT></DIV><DIV style="FONT-FAMILY: Arial" align=left><FONT color=#0000ff><STRONG></STRONG></FONT>&nbsp\;</DIV>
LOCATION:Batavia Public School District 101
UID:e.1902.1274
SEQUENCE:3
DTSTAMP:20260423T002342Z
URL:https://business.bataviachamber.org/events/details/chamber-board-meeting-note-changed-date-12-21-2011-1274
END:VEVENT

END:VCALENDAR
