BEGIN:VCALENDAR
VERSION:2.0
PRODID:-//ChamberMaster//Event Calendar 2.0//EN
METHOD:PUBLISH
X-PUBLISHED-TTL:P3D
REFRESH-INTERVAL:P3D
CALSCALE:GREGORIAN
BEGIN:VEVENT
DTSTART:20100131T000000Z
DTEND:20100131T050000Z
X-MICROSOFT-CDO-ALLDAYEVENT:FALSE
SUMMARY:Chamber Annual Awards Dinner
DESCRIPTION:The Chamber of Commerce is devastated by the passing of Linnea Miller\, \nwho together with her husband Buzz\, was recently named 2009 Citizen of \nthe Year. The Annual Awards Dinner on January 30 will be a celebration \nof her life and an opportunity for the community to show its gratitude for \nthe many things she did to make Batavia the special place it has become. \n\nOur hearts and prayers are with her family during this very difficult time.***********************The beautiful Lincoln Inn Banquets will serve as the dramatic backdrop \nfor this signature event. Please plan to attend this black-tie optional evening \nduring which we will honor Linnea and Buzz Miller as 2009 Citizens of the \nYear\, and announce the winners of the Ole Awards. The evening features \nthe high school Chamber Orchestra and includes a wonderful silent auction.
X-ALT-DESC;FMTTYPE=text/html:<P align=left><FONT face="Times New Roman" color=#000000 size=4>The Chamber of Commerce is devastated by the passing of Linnea Miller\, <BR></FONT><FONT face="Times New Roman" color=#000000 size=4>who together with her husband Buzz\, was recently named 2009 Citizen of <BR>the Year. The Annual Awards Dinner on January 30 will be a celebration <BR>of her life and an opportunity for the community to show its gratitude for <BR>the many things she did to make Batavia the special place it has become. <BR><BR>Our hearts and prayers are with her family during this very difficult time.</FONT></P><P align=left><FONT size=4>***********************</FONT></P><P align=left><FONT face="Times New Roman" color=#0000ff size=4>The beautiful Lincoln Inn Banquets will&nbsp\;serve as the dramatic backdrop <BR>for this signature event. Please plan to attend this&nbsp\;black-tie optional evening <BR>during which we will honor Linnea and Buzz Miller as 2009 Citizens of the <BR>Year\,&nbsp\;and announce the winners of the Ole Awards. The evening features <BR>the high school Chamber Orchestra and includes&nbsp\;a wonderful silent auction.</FONT></P><DIV align=left><FONT size=4></FONT>&nbsp\;</DIV>
LOCATION:Lincoln Inn Banquets
UID:e.1902.1184
SEQUENCE:3
DTSTAMP:20260420T194943Z
URL:https://business.bataviachamber.org/events/details/chamber-annual-awards-dinner-01-30-2010-1184
END:VEVENT

END:VCALENDAR
