BEGIN:VCALENDAR
VERSION:2.0
PRODID:-//ChamberMaster//Event Calendar 2.0//EN
METHOD:PUBLISH
X-PUBLISHED-TTL:P3D
REFRESH-INTERVAL:P3D
CALSCALE:GREGORIAN
BEGIN:VEVENT
DTSTART:20110130T000000Z
DTEND:20110130T050000Z
X-MICROSOFT-CDO-ALLDAYEVENT:FALSE
SUMMARY:Chamber Annual Awards Dinner
DESCRIPTION:The beautiful Lincoln Inn Banquets will serve as the dramatic backdrop for this signature event. Please plan to attend this black-tie optional evening during which we will honor the 2010 Citizen of the Year\, and announce the winners of the Ole Awards. The evening features the high school Chamber Orchestra and includes a wonderful silent auction.
X-ALT-DESC;FMTTYPE=text/html:<P align=left><FONT face="Times New Roman" color=#0000ff size=4>The beautiful Lincoln Inn Banquets will&nbsp\;serve as the dramatic backdrop for this signature event. Please plan to attend this&nbsp\;black-tie optional evening during which we will honor the 2010 Citizen of the Year\,&nbsp\;and announce the winners of the Ole Awards. The evening features the high school Chamber Orchestra and includes&nbsp\;a wonderful silent auction.</FONT></P><DIV align=left><FONT size=4></FONT>&nbsp\;</DIV>
LOCATION:Lincoln Inn Banquets
UID:e.1902.1185
SEQUENCE:3
DTSTAMP:20260423T183412Z
URL:https://business.bataviachamber.org/events/details/chamber-annual-awards-dinner-01-29-2011-1185
END:VEVENT

END:VCALENDAR
