BEGIN:VCALENDAR
VERSION:2.0
PRODID:-//ChamberMaster//Event Calendar 2.0//EN
METHOD:PUBLISH
X-PUBLISHED-TTL:P3D
REFRESH-INTERVAL:P3D
CALSCALE:GREGORIAN
BEGIN:VEVENT
DTSTART:20201129T230000Z
DTEND:20201129T233000Z
X-MICROSOFT-CDO-ALLDAYEVENT:FALSE
SUMMARY:Celebration of Lights Virtual Viewing
DESCRIPTION:Keep the family tradition of attending Celebration of Lights by viewing the tree lighting ceremony virtually on Batavia Access Television (BATV). Watch from the comfort of your home as the Riverwalk lights up for the first time this holiday season with a message from Mayor Schielke\, a 'visit' from Santa Claus\, highlights of Christmas Tree Lane presented by Northwestern Medicine's All of Us Research Program\, and a message from some special Batavia guests! Check back here for BATV channel information or visit the Batavia Park District Facebook page.
X-ALT-DESC;FMTTYPE=text/html:Keep the family tradition of attending Celebration of Lights by viewing the tree lighting ceremony virtually on Batavia Access Television (BATV). Watch from the comfort of your home as the Riverwalk lights up for the first time this holiday season with a message from Mayor Schielke\, a &#39\;visit&#39\; from Santa Claus\, highlights of Christmas Tree Lane presented by Northwestern Medicine&#39\;s All of Us Research Program\, and a message from some special Batavia guests! Check back here for BATV channel information or visit the Batavia Park District Facebook page.
LOCATION:BATV
UID:e.1902.12743
SEQUENCE:3
DTSTAMP:20260422T080833Z
URL:https://business.bataviachamber.org/events/details/celebration-of-lights-virtual-viewing-12743
END:VEVENT

END:VCALENDAR
