BEGIN:VCALENDAR
VERSION:2.0
PRODID:-//ChamberMaster//Event Calendar 2.0//EN
METHOD:PUBLISH
X-PUBLISHED-TTL:P3D
REFRESH-INTERVAL:P3D
CALSCALE:GREGORIAN
BEGIN:VEVENT
DTSTART:20081130T233000Z
DTEND:20081130T060000Z
X-MICROSOFT-CDO-ALLDAYEVENT:FALSE
SUMMARY:Celebration of Lights Festival
DESCRIPTION:Bundle up the family for this magical ceremonial lighting of the tree.  This event features holiday music\, horse-driven hayrides\, roasted chestnuts\, caroling\, bake sale\, entertainment\, and a chance for children to visit with St. Nick.   Dont' miss the mayor lighting the city tree!Free Admission.
X-ALT-DESC;FMTTYPE=text/html:<DIV style="FONT-FAMILY: Arial" align=left><STRONG><FONT color=#ff0000>Bundle up the family for this magical ceremonial lighting of the tree.&nbsp\; This event features holiday music\, horse-driven hayrides\, roasted chestnuts\, caroling\, bake sale\, entertainment\, and a chance for children to visit with St. Nick.</FONT></STRONG>&nbsp\; </DIV><DIV style="FONT-FAMILY: Arial" align=left>&nbsp\;</DIV><DIV style="FONT-FAMILY: Arial" align=left><STRONG><FONT color=#ff0000>Dont' miss the mayor lighting the city tree!</FONT></STRONG></DIV><P style="FONT-FAMILY: Arial" align=left><STRONG><EM><FONT color=#008000>Free Admission.</FONT></EM></STRONG></P>
LOCATION:Batavia Riverwalk
UID:e.1902.1650
SEQUENCE:3
DTSTAMP:20260421T211742Z
URL:https://business.bataviachamber.org/events/details/celebration-of-lights-festival-11-30-2008-1650
END:VEVENT

END:VCALENDAR
