BEGIN:VCALENDAR
VERSION:2.0
PRODID:-//ChamberMaster//Event Calendar 2.0//EN
METHOD:PUBLISH
X-PUBLISHED-TTL:P3D
REFRESH-INTERVAL:P3D
CALSCALE:GREGORIAN
BEGIN:VEVENT
DTSTART:20091129T060000Z
DTEND:20091129T060000Z
X-MICROSOFT-CDO-ALLDAYEVENT:FALSE
SUMMARY:Celebration of Lights
DESCRIPTION:Bundle up the family for this magical ceremonial lighting of the tree.  This event features holidaymusic\, tractor-driven hayrides\, roasted chestnuts\, caroling\, bake sale\, entertainment\, and a visit with St. Nick.
X-ALT-DESC;FMTTYPE=text/html:Bundle up the family for this magical ceremonial lighting of the tree.  This event features holidaymusic\, tractor-driven hayrides\, roasted chestnuts\, caroling\, bake sale\, entertainment\, and a visit with St. Nick.  \n
LOCATION:Batavia Riverwalk
UID:e.1902.1072
SEQUENCE:3
DTSTAMP:20260421T011049Z
URL:https://business.bataviachamber.org/events/details/celebration-of-lights-11-29-2009-1072
END:VEVENT

END:VCALENDAR
