BEGIN:VCALENDAR
VERSION:2.0
PRODID:-//ChamberMaster//Event Calendar 2.0//EN
METHOD:PUBLISH
X-PUBLISHED-TTL:P3D
REFRESH-INTERVAL:P3D
CALSCALE:GREGORIAN
BEGIN:VEVENT
DTSTART:20090611T050000Z
DTEND:20090611T050000Z
X-MICROSOFT-CDO-ALLDAYEVENT:FALSE
SUMMARY:Celebrate the Taste of Summer
DESCRIPTION:Join Chicagoland Panera Bread locations to Celebrate the Taste of Summer! We will be offering complimentary samples of our summer salads and frozen drinks. Check www.panerabread.com for a location near you!
X-ALT-DESC;FMTTYPE=text/html:Join Chicagoland Panera Bread locations to Celebrate the Taste of Summer! We will be offering complimentary samples of our summer salads and frozen drinks. Check www.panerabread.com for a location near you!
LOCATION:Panera Bread
UID:e.1902.953
SEQUENCE:3
DTSTAMP:20260421T090718Z
URL:https://business.bataviachamber.org/events/details/celebrate-the-taste-of-summer-06-11-2009-953
END:VEVENT

END:VCALENDAR
