BEGIN:VCALENDAR
VERSION:2.0
PRODID:-//ChamberMaster//Event Calendar 2.0//EN
METHOD:PUBLISH
X-PUBLISHED-TTL:P3D
REFRESH-INTERVAL:P3D
CALSCALE:GREGORIAN
BEGIN:VEVENT
DTSTART:20090129T060000Z
DTEND:20090129T060000Z
X-MICROSOFT-CDO-ALLDAYEVENT:FALSE
SUMMARY:Celebrate Abraham Lincoln's 200th Birthday
DESCRIPTION:Join President Lincoln and his wife Mary (noted Lincoln interpreters Max and Donna Daniels) as theytell the story of Lincoln's life from childhood through presidency. Birthday cake and punch will beserved and the Lincoln's will post for pictures with your family after the presentation.
X-ALT-DESC;FMTTYPE=text/html:Join President Lincoln and his wife Mary (noted Lincoln interpreters Max and Donna Daniels) as theytell the story of Lincoln's life from childhood through presidency. Birthday cake and punch will beserved and the Lincoln's will post for pictures with your family after the presentation.
LOCATION:Batavia Park District Civic Center
UID:e.1902.820
SEQUENCE:3
DTSTAMP:20260421T180213Z
URL:https://business.bataviachamber.org/events/details/celebrate-abraham-lincoln-s-200th-birthday-01-29-2009-820
END:VEVENT

END:VCALENDAR
