BEGIN:VCALENDAR
VERSION:2.0
PRODID:-//ChamberMaster//Event Calendar 2.0//EN
METHOD:PUBLISH
X-PUBLISHED-TTL:P3D
REFRESH-INTERVAL:P3D
CALSCALE:GREGORIAN
BEGIN:VEVENT
DTSTART:20090213T060000Z
DTEND:20090213T060000Z
X-MICROSOFT-CDO-ALLDAYEVENT:FALSE
SUMMARY:Cause There Is A Need
DESCRIPTION:Together\, you and Gibby's can help local organizations raise needed funds to help our community. Today\, Gibby's will donate a portion of the wine bar business to Mutual Ground\,who provides services for victims of domestic violence and abuse
X-ALT-DESC;FMTTYPE=text/html:Together\, you and Gibby's can help local organizations raise needed funds to help our community. Today\, Gibby's will donate a portion of the wine bar business to Mutual Ground\,who provides services for victims of domestic violence and abuse
LOCATION:Gibby's Wine Den
UID:e.1902.854
SEQUENCE:3
DTSTAMP:20260421T161700Z
URL:https://business.bataviachamber.org/events/details/cause-there-is-a-need-02-13-2009-854
END:VEVENT

END:VCALENDAR
