BEGIN:VCALENDAR
VERSION:2.0
PRODID:-//ChamberMaster//Event Calendar 2.0//EN
METHOD:PUBLISH
X-PUBLISHED-TTL:P3D
REFRESH-INTERVAL:P3D
CALSCALE:GREGORIAN
BEGIN:VEVENT
DTSTART:20201105T210000Z
DTEND:20201105T220000Z
X-MICROSOFT-CDO-ALLDAYEVENT:FALSE
SUMMARY:CASA Kane County General Information Meeting (Virtual)
DESCRIPTION:We need volunteers! CASA Kane County has had an increase in our abuse/neglect and probate cases of 300% and we need your help. Our General Information Meetings are held virtually and will take you through the duties\, qualifications and expectations of becoming a CASA/GAL Volunteer. Ask questions and hear firsthand the other amazing benefits of this not-so typical volunteer experience. If you or someone you know is interested in attending a meeting or simply learning more\, please reach out today to Sandie Cross   sandiec@casakanecounty.org. Or call (630)  444-3131
X-ALT-DESC;FMTTYPE=text/html:<span style="font-family:calibri\,sans-serif"><span style="font-size:11.0pt"><em><strong>We need volunteers! </strong></em>CASA Kane County has had an increase in our abuse/neglect and probate cases of 300% and we need your help. Our General Information Meetings are held virtually and will take you through the duties\, qualifications and expectations of becoming a CASA/GAL Volunteer. Ask questions and hear firsthand the other amazing benefits of this not-so typical volunteer experience. If you or someone you know is interested in attending a meeting or simply learning more\, please reach out today to Sandie Cross &ndash\; <a href="mailto:sandiec@casakanecounty.org">sandiec@casakanecounty.org</a>. Or call (630)&nbsp\; 444-3131</span></span>
LOCATION:This meeting will take place via Microsoft Teams. Please email Sandie Cross at SandieC@casakanecounty.org for link.
UID:e.1902.12685
SEQUENCE:3
DTSTAMP:20260422T080838Z
URL:https://business.bataviachamber.org/events/details/casa-kane-county-general-information-meeting-virtual-12685
END:VEVENT

END:VCALENDAR
