BEGIN:VCALENDAR
VERSION:2.0
PRODID:-//ChamberMaster//Event Calendar 2.0//EN
METHOD:PUBLISH
X-PUBLISHED-TTL:P3D
REFRESH-INTERVAL:P3D
CALSCALE:GREGORIAN
BEGIN:VEVENT
DTSTART:20251115T230000Z
DTEND:20251116T050000Z
X-MICROSOFT-CDO-ALLDAYEVENT:FALSE
SUMMARY:Carnivale
DESCRIPTION:Saturday\, November 15th \n\nSanfilippo Estate   Barrington Hills\, IL 60010\n\nRegister or learn more  \n\nJoin us for a magical evening featuring Sanfilippo's "Place de la Musique"\, renowned for its magnificent collection of restored antique music machines\, phonographs\, arcade and gambling machines\, chandeliers\, art glass\, the world's largest theatre pipe organ\, and more. Our French-inspired Carnivale includes hors d'oeuvres\, entertainment\, and dinner in the Carousel Pavilion\, home to the world's most spectacular European calliopes\, the Eden Palais carousel\, street tower clock\, Pullman car\, and steam engines all displayed within a breathtaking French Second Empire setting. Truly\, you will be amazed by this night long after the event is over!\n\nFestivities\n\n5:00 pm   6:30 pm    House Tour\n\n6:00 pm  Carousel Pavilion Opens\n\n6:30 pm   10:30 pm   Dinner\, Carousel Rides\, Entertainment\, Live Auction & Paddle Raise\n\nDinner prepared by Wild Asparagus\n\n \n\nSponsorships Available\n\nContact Jenn Smiley at jsmiley@ahconnects.org
X-ALT-DESC;FMTTYPE=text/html:<p><strong>Saturday\, November 15th&nbsp\;</strong><br />\n<strong>Sanfilippo Estate &ndash\; Barrington Hills\, IL 60010</strong><br />\n<a href="https://e.givesmart.com/events/KpF/" rel="noopener" style="color: rgb(171\, 195\, 128) !important\; box-sizing: border-box\; margin: 0px\; padding: 0px\; border: 0px\; outline: 0px\; text-size-adjust: 100%\; vertical-align: baseline\; background: transparent\; text-decoration-color: rgb(171\, 195\, 128)\; font-weight: 700\;" target="_blank">Register or learn more &raquo\;</a></p>\n\n<p>Join us for a magical evening featuring Sanfilippo&rsquo\;s &ldquo\;Place de la Musique&rdquo\;\, renowned for its magnificent collection of restored antique music machines\, phonographs\, arcade and gambling machines\, chandeliers\, art glass\, the world&rsquo\;s largest theatre pipe organ\, and more. Our French-inspired Carnivale includes hors d&rsquo\;oeuvres\, entertainment\, and dinner in the Carousel Pavilion\, home to the world&rsquo\;s most spectacular European calliopes\, the Eden Palais carousel\, street tower clock\, Pullman car\, and steam engines all displayed within a breathtaking French Second Empire setting. Truly\, you will be amazed by this night long after the event is over!</p>\n\n<h3>Festivities</h3>\n\n<p><strong>5:00 pm &ndash\; 6:30 pm</strong>&nbsp\; &nbsp\; House Tour</p>\n\n<p><strong>6:00 pm</strong>&nbsp\; Carousel Pavilion Opens</p>\n\n<p><strong>6:30 pm &ndash\; 10:30 pm</strong>&nbsp\; &nbsp\;Dinner\, Carousel Rides\, Entertainment\, Live Auction &amp\; Paddle Raise</p>\n\n<p><em>Dinner prepared by Wild Asparagus</em></p>\n\n<p>&nbsp\;</p>\n\n<h3>Sponsorships Available</h3>\n\n<p>Contact Jenn Smiley at <a href="mailto:jsmiley@ahconnects.org      ">jsmiley@ahconnects.org </a></p>\n
LOCATION:Sanfilippo Estate
UID:e.1902.29828
SEQUENCE:3
DTSTAMP:20260425T031557Z
URL:https://business.bataviachamber.org/events/details/carnivale-29828
END:VEVENT

END:VCALENDAR
