BEGIN:VCALENDAR
VERSION:2.0
PRODID:-//ChamberMaster//Event Calendar 2.0//EN
METHOD:PUBLISH
X-PUBLISHED-TTL:P3D
REFRESH-INTERVAL:P3D
CALSCALE:GREGORIAN
BEGIN:VEVENT
DTSTART:20251207T200000Z
DTEND:20251208T000000Z
X-MICROSOFT-CDO-ALLDAYEVENT:FALSE
SUMMARY:Candlelight and Christmas Pageant
DESCRIPTION:A holiday tradition since 1972!\n\nCherish the sounds of holiday music\, the scent of fresh-cut evergreens\, the warmth of a glowing fire\, the flicker of candlelight\, and the flavor of old-fashioned treats as your family explores the historic 1843 Durant-Peterson House.\n\nAlso visit the 1872 Sholes School\, a short stroll from the Durant-Peterson House\, for a traditional children's Christmas Pageant.\n\nBoth museums are included in one low price!\n\nTickets are $5/Adult and $1/child. Entry times are at half-hour intervals at the Durant-Peterson House Museum to ease congestion. Your visit can extend longer than the half-hour interval you select. (NOTE: The least congested time at the House is during the Sholes School Pageants\, times listed below.)\n\n\n\nTICKETS CAN BE PURCHASED IN ADVANCE (highly recommended) at PPFV.org/candlelight.\n\n\n\nAt the 1843 Durant-Peterson House Museum\n\n\n	Holiday decorations typical for 1800s\n	Natural fragrance of evergreens throughout the museum\n	Docents in period dress sharing stories of the Durants and Petersons\n	Warm\, crackling fire in the hearth\n	Holiday music played by junior docents\n	Old-fashioned ginger cake and ribbon candy samples\n\n\nAt the 1872 Sholes School Museum\n\nRelive a traditional Christmas Pageant where students recite their lessons and everyone sings carols! Showtimes are:\n\n\n	2:30 PM\n	3:15 PM\n	4:30 PM\n	5:15 PM\n\n\nEach show is approximately 20 minutes.\n\nSeating is first-come\, first-served and is limited.\n\nThe 1843 Durant-Peterson House and Sholes School Museums are located in the LeRoy Oakes Forest Preserve\, 37W700 Dean St.\, St. Charles\, IL.
X-ALT-DESC;FMTTYPE=text/html:<em><strong>A holiday tradition since 1972!</strong></em>\n<div>\n<p>Cherish the sounds of holiday music\, the scent of fresh-cut evergreens\, the warmth of a glowing fire\, the flicker of candlelight\, and the flavor of old-fashioned treats as your family explores the historic&nbsp\;<strong><a href="https://fareharbor.com/www.ppfv.org/durant-house-museum" rel="noopener noreferrer" style="color: rgb(10\, 110\, 206)\; border: 0px\; margin: 0px\; padding: 0px\; cursor: pointer\;" target="_blank">1843 Durant-Peterson House</a>.</strong></p>\n\n<p>Also visit the&nbsp\;<strong><a href="https://fareharbor.com/www.ppfv.org/sholes-school" rel="noopener noreferrer" style="color: rgb(10\, 110\, 206)\; border: 0px\; margin: 0px\; padding: 0px\; cursor: pointer\;" target="_blank">1872 Sholes School</a></strong>\, a short stroll from the Durant-Peterson House\, for a traditional children&#39\;s Christmas Pageant.</p>\n\n<p>Both museums are included in one low price!</p>\n\n<p>Tickets are $5/Adult and $1/child. Entry times are at half-hour intervals at the Durant-Peterson House Museum to ease congestion. Your visit can extend longer than the half-hour interval you select. (<strong>NOTE:</strong>&nbsp\;<em>The least congested time at the House is during the Sholes School Pageants\, times listed below.</em>)<br />\n<br />\nTICKETS CAN BE PURCHASED IN ADVANCE (highly recommended) at&nbsp\;<strong><a href="http://www.ppfv.org/candlelight" target="_blank"><em>PPFV.org/candlelight.</em></a></strong></p>\n</div>\n\n<div>\n<h3><strong>At the 1843 Durant-Peterson House Museum</strong></h3>\n\n<ul>\n	<li>Holiday decorations typical for 1800s</li>\n	<li>Natural fragrance of evergreens throughout the museum</li>\n	<li>Docents in period dress sharing stories of the Durants and Petersons</li>\n	<li>Warm\, crackling fire in the hearth</li>\n	<li>Holiday music played by junior docents</li>\n	<li>Old-fashioned ginger cake and ribbon candy samples</li>\n</ul>\n\n<h3><strong>At the 1872 Sholes School Museum</strong></h3>\n\n<p>Relive a traditional Christmas Pageant where students recite their lessons and everyone sings carols! Showtimes are:</p>\n\n<ul>\n	<li>2:30 PM</li>\n	<li>3:15 PM</li>\n	<li>4:30 PM</li>\n	<li>5:15 PM</li>\n</ul>\n\n<p>Each show is approximately 20 minutes.</p>\n\n<p>Seating is first-come\, first-served and is limited.</p>\n</div>\n<em>The&nbsp\;<a href="https://fareharbor.com/www.ppfv.org/durant-house-museum" rel="noopener noreferrer" style="color: rgb(10\, 110\, 206)\; border: 0px\; margin: 0px\; padding: 0px\; cursor: pointer\; font-style: normal\;" target="_blank"><em>1843 Durant-Peterson House</em></a>&nbsp\;and&nbsp\;<a href="https://fareharbor.com/www.ppfv.org/sholes-school" rel="noopener noreferrer" style="color: rgb(10\, 110\, 206)\; border: 0px\; margin: 0px\; padding: 0px\; cursor: pointer\; font-style: normal\;" target="_blank"><em>Sholes School</em></a>&nbsp\;Museums are located in the LeRoy Oakes Forest Preserve\, 37W700 Dean St.\, St. Charles\, IL.</em>
LOCATION:Durant-Peterson House & Sholes School LeRoy Oakes Forest Preserve 37W700 Dean Street\, St. Charles
UID:e.1902.30363
SEQUENCE:3
DTSTAMP:20260419T130342Z
URL:https://business.bataviachamber.org/events/details/candlelight-and-christmas-pageant-12-07-2025-30363
END:VEVENT

END:VCALENDAR
