BEGIN:VCALENDAR
VERSION:2.0
PRODID:-//ChamberMaster//Event Calendar 2.0//EN
METHOD:PUBLISH
X-PUBLISHED-TTL:P3D
REFRESH-INTERVAL:P3D
CALSCALE:GREGORIAN
BEGIN:VEVENT
DTSTART:20090325T050000Z
DTEND:20090325T050000Z
X-MICROSOFT-CDO-ALLDAYEVENT:FALSE
SUMMARY:Candidates forum
DESCRIPTION:Three mayoral candidates and contested alderman seats present their views and answer questions.
X-ALT-DESC;FMTTYPE=text/html:Three mayoral candidates and contested alderman seats present their views and answer questions.
LOCATION:Batavia City Hall
UID:e.1902.900
SEQUENCE:3
DTSTAMP:20260421T143735Z
URL:https://business.bataviachamber.org/events/details/candidates-forum-03-25-2009-900
END:VEVENT

END:VCALENDAR
