BEGIN:VCALENDAR
VERSION:2.0
PRODID:-//ChamberMaster//Event Calendar 2.0//EN
METHOD:PUBLISH
X-PUBLISHED-TTL:P3D
REFRESH-INTERVAL:P3D
CALSCALE:GREGORIAN
BEGIN:VEVENT
DTSTART:20100821T050000Z
DTEND:20100821T050000Z
X-MICROSOFT-CDO-ALLDAYEVENT:FALSE
SUMMARY:Campaign Grand Opening Party
DESCRIPTION:Bill Foster for Congress announces...\n\nCampaign HeadQuarters Grand Opening Party!\n\nThis is a free\, family friendly event! Food and refreshments are provided\, and children are welcome to attend.\n\nCome meet the campaign staff and the Congressman - show your support!\n\nPlease RSVP!
X-ALT-DESC;FMTTYPE=text/html:Bill Foster for Congress announces...\n\nCampaign HeadQuarters Grand Opening Party!\n\nThis is a free\, family friendly event! Food and refreshments are provided\, and children are welcome to attend.\n\nCome meet the campaign staff and the Congressman - show your support!\n\nPlease RSVP!
LOCATION:Campaign HQ
UID:e.1902.25
SEQUENCE:3
DTSTAMP:20260420T075729Z
URL:https://business.bataviachamber.org/events/details/campaign-grand-opening-party-08-21-2010-25
END:VEVENT

END:VCALENDAR
