BEGIN:VCALENDAR
VERSION:2.0
PRODID:-//ChamberMaster//Event Calendar 2.0//EN
METHOD:PUBLISH
X-PUBLISHED-TTL:P3D
REFRESH-INTERVAL:P3D
CALSCALE:GREGORIAN
BEGIN:VEVENT
DTSTART:20080408T163000Z
DTEND:20080408T180000Z
X-MICROSOFT-CDO-ALLDAYEVENT:FALSE
SUMMARY:BWIB Luncheon - 08/04/08
DESCRIPTION:
X-ALT-DESC;FMTTYPE=text/html:
LOCATION:Piper's Banquets
UID:e.1902.1324
SEQUENCE:3
DTSTAMP:20260426T011616Z
URL:https://business.bataviachamber.org/events/details/bwib-luncheon-08-04-08-04-08-2008-1324
END:VEVENT

END:VCALENDAR
