BEGIN:VCALENDAR
VERSION:2.0
PRODID:-//ChamberMaster//Event Calendar 2.0//EN
METHOD:PUBLISH
X-PUBLISHED-TTL:P3D
REFRESH-INTERVAL:P3D
CALSCALE:GREGORIAN
BEGIN:VEVENT
DTSTART:20050208T060000Z
DTEND:20050208T060000Z
X-MICROSOFT-CDO-ALLDAYEVENT:FALSE
SUMMARY:BWIB Luncheon - 05/02/08
DESCRIPTION:BWIB Luncheon - 05/02/08
X-ALT-DESC;FMTTYPE=text/html:BWIB Luncheon - 05/02/08
LOCATION:Mill Creek Golf Club
UID:e.1902.2019
SEQUENCE:3
DTSTAMP:20260420T075730Z
URL:https://business.bataviachamber.org/events/details/bwib-luncheon-05-02-08-02-08-2005-2019
END:VEVENT

END:VCALENDAR
