BEGIN:VCALENDAR
VERSION:2.0
PRODID:-//ChamberMaster//Event Calendar 2.0//EN
METHOD:PUBLISH
X-PUBLISHED-TTL:P3D
REFRESH-INTERVAL:P3D
CALSCALE:GREGORIAN
BEGIN:VEVENT
DTSTART:20100413T163000Z
DTEND:20100413T180000Z
X-MICROSOFT-CDO-ALLDAYEVENT:FALSE
SUMMARY:BWIB Lunch: ''The Unpredictability of Life''
DESCRIPTION:What happens when life's unpredictability comes knocking at your door? Join us to hear the stories and life lessons of three very successful business women who have fought the odds and came out on top. You will hear Janice Christiansen of FlagSource\, Linda Bi of Chicago Expert Importers\, and Dona Marrone of Premier Designs talk about the lessons life has laid at their doorstep and how you might come out on top in your business and life.
X-ALT-DESC;FMTTYPE=text/html:<P class=MsoNormal style="MARGIN: 0in 0in 0pt\; FONT-FAMILY: Arial" align=center></P><P class=MsoNormal style="MARGIN: 0in 0in 0pt\; FONT-FAMILY: Arial" align=center><FONT face="Times New Roman" color=#0000ff size=5><STRONG><EM>What happens when life's unpredictability comes knocking at your door?</EM></STRONG></FONT></P><P class=MsoNormal style="MARGIN: 0in 0in 0pt\; FONT-FAMILY: Arial" align=center><STRONG><EM><FONT face="Times New Roman" color=#0000ff size=5></FONT></EM></STRONG>&nbsp\;</P><P class=MsoNormal style="MARGIN: 0in 0in 0pt\; FONT-FAMILY: Arial" align=left><FONT face="Times New Roman" color=#0000ff size=4>Join us to hear the stories and life lessons of three very successful business women who have fought the odds and came out on top. You will hear </FONT><FONT face="Times New Roman" color=#0000ff size=4><EM><FONT color=#800000><STRONG>Janice Christiansen</STRONG></FONT></EM> of<EM> <FONT color=#800000>FlagSource</FONT>\, <FONT color=#800000><STRONG>Linda Bi</STRONG></FONT></EM> of <EM><FONT color=#800000>Chicago Expert Importers</FONT>\, </EM>and <EM><STRONG><FONT color=#800000>Dona Marrone</FONT></STRONG></EM> of <EM><FONT color=#800000>Premier Designs</FONT> </EM>talk about the lessons life has laid at their doorstep and how you might come out on top in your business and life.</FONT></P><P class=MsoNormal style="MARGIN: 0in 0in 0pt\; FONT-FAMILY: Arial" align=left><?xml:namespace prefix = st1 ns = "urn:schemas-microsoft-com:office:smarttags" /><st1:PersonName w:st="on"><SPAN style="FONT-FAMILY: Calibri"><FONT face="Times New Roman" color=#0000ff size=4></P></FONT></SPAN></st1:PersonName>
LOCATION:Mill Creek Golf Club
UID:e.1902.1340
SEQUENCE:3
DTSTAMP:20260420T144049Z
URL:https://business.bataviachamber.org/events/details/bwib-lunch-the-unpredictability-of-life-04-13-2010-1340
END:VEVENT

END:VCALENDAR
