BEGIN:VCALENDAR
VERSION:2.0
PRODID:-//ChamberMaster//Event Calendar 2.0//EN
METHOD:PUBLISH
X-PUBLISHED-TTL:P3D
REFRESH-INTERVAL:P3D
CALSCALE:GREGORIAN
BEGIN:VEVENT
DTSTART:20110614T163000Z
DTEND:20110614T180000Z
X-MICROSOFT-CDO-ALLDAYEVENT:FALSE
SUMMARY:BWIB Lunch: ''Resilience\, the New Balance'' with Dr. Christine Sobek
DESCRIPTION:Join Batavia Women In Business to discuss "Resilience\, the New Balance" with Christine J. Sobek\, Ed.D.\, President of Waubonsee Community College. Explore how resilience helps you bounce back to balance when life stretches your capabilities.
X-ALT-DESC;FMTTYPE=text/html:<P align=left><FONT face=Arial color=#0000ff size=4>Join Batavia Women In Business to&nbsp\;discuss <FONT color=#800000>"Resilience\, the New Balance"</FONT> with Christine J. Sobek\, Ed.D.\, President of Waubonsee Community College. Explore how resilience helps you bounce back to balance when life stretches your capabilities.</FONT></P>
LOCATION:Mill Creek Golf Club
UID:e.1902.1349
SEQUENCE:3
DTSTAMP:20260423T105607Z
URL:https://business.bataviachamber.org/events/details/bwib-lunch-resilience-the-new-balance-with-dr-christine-sobek-06-14-2011-1349
END:VEVENT

END:VCALENDAR
