BEGIN:VCALENDAR
VERSION:2.0
PRODID:-//ChamberMaster//Event Calendar 2.0//EN
METHOD:PUBLISH
X-PUBLISHED-TTL:P3D
REFRESH-INTERVAL:P3D
CALSCALE:GREGORIAN
BEGIN:VEVENT
DTSTART:20100608T163000Z
DTEND:20100608T180000Z
X-MICROSOFT-CDO-ALLDAYEVENT:FALSE
SUMMARY:BWIB Lunch: ''Difficult Conversations to Healthy Dialogues''
DESCRIPTION:Save the date for another great BWIB Event! Which of the following styles would typify how you generally handle difficult conversations?\n“I scare myself by imagining that something terrible will happen so I AVOID THEM.”\n“I tend to just GO IN THERE AND GET THEM OVER WITH…and sometimes the outcomes are not so pretty.”\n“I find that there are two sides to every story and if I open the door for sharing and listening\, I generally get good outcomes.”\nRegardless of your history and success at having difficult conversations\, Carolyn Rowe of Connections Leadership has results to prove that with focus and practice you can build your integrity and success in life by having “healthy” difficult conversations that she defines as those that are honest\, meaningful\, respectful and intentional and that get the desired results.\nIn this session\, Carolyn will guide you to have more effective difficult conversations by considering...Your HEART… to understand the importance of the conversation to the relationshipYour HEAD…to learn conversational skills that will help you be successfulAND A LITTLE HUMOR to overcome “the monsters in your mind” that take over as you consider facing up to difficult and important situations.Join us on June 8 for a Healthy Dialogue about Difficult Conversations!
X-ALT-DESC;FMTTYPE=text/html:<P class=MsoNormal style="MARGIN: 0in 0in 0pt\; FONT-FAMILY: Arial" align=left><FONT color=#0000ff size=4></FONT></P><P class=MsoNormal style="MARGIN: 0in 0in 0pt\; FONT-FAMILY: Arial" align=center><FONT color=#800000 size=4><EM>Save the date for another great BWIB Event!</EM></FONT></P><P class=MsoNormal style="MARGIN: 0in 0in 0pt\; FONT-FAMILY: Arial" align=left><FONT color=#0000ff size=4></FONT>&nbsp\;</P><P class=MsoNormal style="MARGIN: 0in 0in 0pt\; FONT-FAMILY: Arial" align=left><FONT color=#0000ff size=4>Which of the following styles would typify how you generally handle difficult conversations?</FONT></P><FONT color=#0000ff><P class=MsoNormal style="MARGIN: 0in 0in 0pt\; FONT-FAMILY: Arial" align=left><BR><FONT size=4>“I scare myself by imagining that something terrible will happen so <FONT color=#800000>I AVOID THEM.”</FONT></FONT></P><P class=MsoNormal style="MARGIN: 0in 0in 0pt\; FONT-FAMILY: Arial" align=left><BR><FONT size=4>“I tend to just <FONT color=#800000>GO IN THERE AND GET THEM OVER WITH</FONT>…and sometimes the outcomes are not so pretty.”</FONT></P><P class=MsoNormal style="MARGIN: 0in 0in 0pt\; FONT-FAMILY: Arial" align=left><BR><FONT size=4>“I find that there are two sides to every story and if I open the door for sharing and listening\, I generally get good outcomes.”</FONT></P><P class=MsoNormal style="MARGIN: 0in 0in 0pt\; FONT-FAMILY: Arial" align=left><BR><FONT size=4>Regardless of your history and success at having difficult conversations\, Carolyn Rowe of Connections Leadership has results to prove that with focus and practice you can build your integrity and success in life by having “healthy” difficult conversations that she defines as those that are honest\, meaningful\, respectful and intentional and that get the desired results.<BR>In this session\, Carolyn will guide you to have more effective difficult conversations by considering...</FONT></P><UL><LI><DIV class=MsoNormal style="MARGIN: 0in 0in 0pt\; FONT-FAMILY: Arial" align=left><FONT size=4>Your HEART… to understand the importance of the conversation to the relationship</FONT></DIV><LI><DIV class=MsoNormal style="MARGIN: 0in 0in 0pt\; FONT-FAMILY: Arial" align=left><FONT size=4>Your HEAD…to learn conversational skills that will help you be successful</FONT></DIV><LI><DIV class=MsoNormal style="MARGIN: 0in 0in 0pt\; FONT-FAMILY: Arial" align=left><FONT size=4>AND A LITTLE HUMOR to overcome “the monsters in your mind” that take over as you consider facing up to difficult and important situations.</FONT></DIV></LI></UL><P class=MsoNormal style="MARGIN: 0in 0in 0pt\; FONT-FAMILY: Arial" align=center></FONT><FONT color=#800000 size=4><EM>Join us on June 8 for a Healthy Dialogue&nbsp\;about Difficult Conversations!</EM></FONT></P>
LOCATION:Fox Valley Country Club
UID:e.1902.1341
SEQUENCE:3
DTSTAMP:20260420T111622Z
URL:https://business.bataviachamber.org/events/details/bwib-lunch-difficult-conversations-to-healthy-dialogues-06-08-2010-1341
END:VEVENT

END:VCALENDAR
