BEGIN:VCALENDAR
VERSION:2.0
PRODID:-//ChamberMaster//Event Calendar 2.0//EN
METHOD:PUBLISH
X-PUBLISHED-TTL:P3D
REFRESH-INTERVAL:P3D
CALSCALE:GREGORIAN
BEGIN:VEVENT
DTSTART:20110412T163000Z
DTEND:20110412T180000Z
X-MICROSOFT-CDO-ALLDAYEVENT:FALSE
SUMMARY:BWIB Lunch: ''Bullet-Proof Your Business''
DESCRIPTION:Join Batavia Women In Business to learn from Bill Bartlett how to "Bullet Proof your business in the current economy: Learn ways to Sell better\, Manage time better\, and Lead better in today's marketplace"Bill Bartlett\, president and founder of Corporate Strategies & Solutions\, a Sandler Training Center\, “lives to sell.” Bill’s specialty is analyzing business strategy and developing customized training that focuses on areas such as leadership\, sales\, management and professional development.\nWith over 35 years of sales success\, Bill has a proven track record helping countless professionals achieve professional and personal heights previously unimagined. This has made Bill an internationally sought after speaker and engaging trainer who offers a unique perspective and insight to his audiences on a wide range of sales and leadership topics. In addition\, for over two years\, Bill has been the sales columnist for The Business Ledger\, a business-focused newspaper for the Western Suburbs of Chicago.\nWith a dynamic speaking style that challenges his audience to be fearless\, Bill concentrates their attention on the behaviors\, beliefs and skills necessary for increased performance and superior results. “It takes a stiff spine to excel in the sales world and to be a consistent\, high performing sales professional.” By focusing on this mantra\, Bill helps clients modify their behavior and eliminate self-defeating patterns that keep them from achieving greater success.
X-ALT-DESC;FMTTYPE=text/html:<P align=left><FONT face=Arial color=#0000ff size=4>Join Batavia Women In Business to&nbsp\;learn from&nbsp\;Bill Bartlett how to <FONT color=#800000>"Bullet Proof your business in the current economy: Learn ways to Sell better\, Manage time better\, and Lead better in today's marketplace"</FONT></FONT></P><P align=left><FONT face=Arial color=#000080>Bill Bartlett\, president and founder of Corporate Strategies &amp\; Solutions\, a Sandler Training Center\, “lives to sell.” Bill’s specialty is analyzing business strategy and developing customized training that focuses on areas such as leadership\, sales\, management and professional development.</FONT></P><P align=left><BR><FONT face=Arial color=#000080>With over 35 years of sales success\, Bill has a proven track record helping countless professionals achieve professional and personal heights previously unimagined. This has made Bill an internationally sought after speaker and engaging trainer who offers a unique perspective and insight to his audiences on a wide range of sales and leadership topics. In addition\, for over two years\, Bill has been the sales columnist for The Business Ledger\, a business-focused newspaper for the Western Suburbs of Chicago.</FONT></P><P align=left><BR><FONT face=Arial color=#000080>With a dynamic speaking style that challenges his audience to be fearless\, Bill concentrates their attention on the behaviors\, beliefs and skills necessary for increased performance and superior results. “It takes a stiff spine to excel in the sales world and to be a consistent\, high performing sales professional.” By focusing on this mantra\, Bill helps clients modify their behavior and eliminate self-defeating patterns that keep them from achieving greater success.</FONT></P>
LOCATION:Prairie Landing Golf Club
UID:e.1902.1348
SEQUENCE:3
DTSTAMP:20260419T181128Z
URL:https://business.bataviachamber.org/events/details/bwib-lunch-bullet-proof-your-business-04-12-2011-1348
END:VEVENT

END:VCALENDAR
