BEGIN:VCALENDAR
VERSION:2.0
PRODID:-//ChamberMaster//Event Calendar 2.0//EN
METHOD:PUBLISH
X-PUBLISHED-TTL:P3D
REFRESH-INTERVAL:P3D
CALSCALE:GREGORIAN
BEGIN:VEVENT
DTSTART:20101214T173000Z
DTEND:20101214T190000Z
X-MICROSOFT-CDO-ALLDAYEVENT:FALSE
SUMMARY:BWIB Holiday Networking Luncheon
DESCRIPTION:Join us for one of the most enjoyable events of the entire BWIB year...\nthe Holiday Networking Luncheon! Make a child very happy this holiday season!!\nBring an unwrapped toy or gift card for the Batavia ACCESS Toy Drive.  Celebrate the holidays\, make new friends and renew old friendships. There will be prizes\, fun and great food.  How can you resist?  RSVP ($25 for members\; $30 for non-members and guests)
X-ALT-DESC;FMTTYPE=text/html:<P align=center><FONT size=4></FONT></P><P align=center><FONT color=#008000 size=4>Join us for one of the most enjoyable events of the entire BWIB year...<BR></FONT><FONT color=#008000 size=5>the Holiday Networking Luncheon! </FONT></P><P align=center><FONT color=#ff0000><STRONG>Make&nbsp\;a child very happy this holiday season!!<BR>Bring an unwrapped toy or gift card for the Batavia ACCESS Toy Drive.&nbsp\; </STRONG></FONT></P><P align=center><FONT color=#ff0000><STRONG></P></STRONG></FONT><P><FONT color=#008000 size=4>Celebrate the holidays\, make new friends and renew old friendships. There will be prizes\, fun and great food.&nbsp\; How can you resist?&nbsp\; RSVP ($25 for members\; $30 for non-members and guests)</FONT></P>
LOCATION:Fox Valley Country Club
UID:e.1902.1345
SEQUENCE:3
DTSTAMP:20260423T201330Z
URL:https://business.bataviachamber.org/events/details/bwib-holiday-networking-luncheon-12-14-2010-1345
END:VEVENT

END:VCALENDAR
