BEGIN:VCALENDAR
VERSION:2.0
PRODID:-//ChamberMaster//Event Calendar 2.0//EN
METHOD:PUBLISH
X-PUBLISHED-TTL:P3D
REFRESH-INTERVAL:P3D
CALSCALE:GREGORIAN
BEGIN:VEVENT
DTSTART:20300205T173000Z
DTEND:20300205T183000Z
X-MICROSOFT-CDO-ALLDAYEVENT:FALSE
SUMMARY:BWIB Committee Meeting
DESCRIPTION:
X-ALT-DESC;FMTTYPE=text/html:
LOCATION:
UID:e.1902.26003
SEQUENCE:3
DTSTAMP:20260420T173705Z
URL:https://business.bataviachamber.org/events/details/bwib-committee-meeting-02-05-2030-26003
END:VEVENT

END:VCALENDAR
