BEGIN:VCALENDAR
VERSION:2.0
PRODID:-//ChamberMaster//Event Calendar 2.0//EN
METHOD:PUBLISH
X-PUBLISHED-TTL:P3D
REFRESH-INTERVAL:P3D
CALSCALE:GREGORIAN
BEGIN:VEVENT
DTSTART:20100201T060000Z
DTEND:20100201T060000Z
X-MICROSOFT-CDO-ALLDAYEVENT:FALSE
SUMMARY:BWC Monthly Luncheon/Program
DESCRIPTION:The Batavia Woman's Club will host a luncheon and program on Monday\, February 1st at Riverview Banquets located at 1117 Washington St. (Rt.25) in Batavia. The speaker for the afternoon is Allison Johnsen\, LCPC\, CPC\, from Legacy Clinical Consultants.  Allison is a Licensed Clinical Professional Counselor\, and Certified Professional Coach.  She will offer a positive and encouraging approach to "Ageand Stage"\; Making the Most of Your Life Right Now.  If you are interested in attending\, please call630-546-9176 or email info@bataviawomansclub.org.  Reservations are required. The cost of lunch is$12.00.  New members are always welcome.
X-ALT-DESC;FMTTYPE=text/html:The Batavia Woman's Club will host a luncheon and program on Monday\, February 1st at Riverview Banquets located at 1117 Washington St. (Rt.25) in Batavia. The speaker for the afternoon is Allison Johnsen\, LCPC\, CPC\, from Legacy Clinical Consultants.  Allison is a Licensed Clinical Professional Counselor\, and Certified Professional Coach.  She will offer a positive and encouraging approach to "Ageand Stage"\; Making the Most of Your Life Right Now.  If you are interested in attending\, please call630-546-9176 or email info@bataviawomansclub.org.  Reservations are required. The cost of lunch is$12.00.  New members are always welcome.
LOCATION:Riverview Banquets
UID:e.1902.1110
SEQUENCE:3
DTSTAMP:20260420T175111Z
URL:https://business.bataviachamber.org/events/details/bwc-monthly-luncheon-program-02-01-2010-1110
END:VEVENT

END:VCALENDAR
