BEGIN:VCALENDAR
VERSION:2.0
PRODID:-//ChamberMaster//Event Calendar 2.0//EN
METHOD:PUBLISH
X-PUBLISHED-TTL:P3D
REFRESH-INTERVAL:P3D
CALSCALE:GREGORIAN
BEGIN:VEVENT
DTSTART:20090227T060000Z
DTEND:20090227T060000Z
X-MICROSOFT-CDO-ALLDAYEVENT:FALSE
SUMMARY:Business Open House
DESCRIPTION:Local Design Firm holding open house for current and prospective clients. Food and drink will be provided. Casual networking event.
X-ALT-DESC;FMTTYPE=text/html:Local Design Firm holding open house for current and prospective clients. Food and drink will be provided. Casual networking event.
LOCATION:Curtis Creative
UID:e.1902.868
SEQUENCE:3
DTSTAMP:20260421T161733Z
URL:https://business.bataviachamber.org/events/details/business-open-house-02-27-2009-868
END:VEVENT

END:VCALENDAR
